BEGIN:VCALENDAR
VERSION:2.0
PRODID:-//Diocesan Family Service Centre - ECPv6.5.0.1//NONSGML v1.0//EN
CALSCALE:GREGORIAN
METHOD:PUBLISH
X-WR-CALNAME:Diocesan Family Service Centre
X-ORIGINAL-URL:https://familyservicecentregoa.org
X-WR-CALDESC:Events for Diocesan Family Service Centre
REFRESH-INTERVAL;VALUE=DURATION:PT1H
X-Robots-Tag:noindex
X-PUBLISHED-TTL:PT1H
BEGIN:VTIMEZONE
TZID:UTC
BEGIN:STANDARD
TZOFFSETFROM:+0000
TZOFFSETTO:+0000
TZNAME:UTC
DTSTART:20220101T000000
END:STANDARD
END:VTIMEZONE
BEGIN:VEVENT
DTSTART;TZID=UTC:20220822T083000
DTEND;TZID=UTC:20220822T173000
DTSTAMP:20260422T222148
CREATED:20220926T102950Z
LAST-MODIFIED:20220926T102950Z
UID:8268-1661157000-1661189400@familyservicecentregoa.org
SUMMARY:Family Life Education
DESCRIPTION:
URL:https://familyservicecentregoa.org/event/family-life-education-18/
LOCATION:Marina English High school\, Verna\, Marina English High school\, Verna
END:VEVENT
BEGIN:VEVENT
DTSTART;TZID=UTC:20220821T083000
DTEND;TZID=UTC:20220821T173000
DTSTAMP:20260422T222148
CREATED:20220926T102858Z
LAST-MODIFIED:20220926T102858Z
UID:8266-1661070600-1661103000@familyservicecentregoa.org
SUMMARY:Family Seminar
DESCRIPTION:
URL:https://familyservicecentregoa.org/event/family-seminar/
LOCATION:Canacona Deanery\, Canacona Deanery
END:VEVENT
BEGIN:VEVENT
DTSTART;TZID=UTC:20220820T083000
DTEND;TZID=UTC:20220821T173000
DTSTAMP:20260422T222148
CREATED:20220926T102740Z
LAST-MODIFIED:20220926T102740Z
UID:8264-1660984200-1661103000@familyservicecentregoa.org
SUMMARY:Marriage Formation Programme
DESCRIPTION:
URL:https://familyservicecentregoa.org/event/marriage-formation-programme-7/
LOCATION:St. John Paul II Complex\, Margao
END:VEVENT
BEGIN:VEVENT
DTSTART;TZID=UTC:20220814T083000
DTEND;TZID=UTC:20220814T173000
DTSTAMP:20260422T222148
CREATED:20220926T102647Z
LAST-MODIFIED:20220926T102647Z
UID:8262-1660465800-1660498200@familyservicecentregoa.org
SUMMARY:Annual Gathering Of Missionary Families For Christ (Konkani Group)
DESCRIPTION:
URL:https://familyservicecentregoa.org/event/annual-gathering-of-missionary-families-for-christ-konkani-group/
LOCATION:Agnel Ashram\, Verna\, Agnel Ashram\, Verna
END:VEVENT
BEGIN:VEVENT
DTSTART;TZID=UTC:20220813T083000
DTEND;TZID=UTC:20220814T173000
DTSTAMP:20260422T222148
CREATED:20220926T102536Z
LAST-MODIFIED:20220926T102536Z
UID:8260-1660379400-1660498200@familyservicecentregoa.org
SUMMARY:Marriage Formation Programme
DESCRIPTION:
URL:https://familyservicecentregoa.org/event/marriage-formation-programme-6/
LOCATION:St. John Paul II Complex\, Margao
END:VEVENT
BEGIN:VEVENT
DTSTART;TZID=UTC:20220806T083000
DTEND;TZID=UTC:20220807T173000
DTSTAMP:20260422T222148
CREATED:20220926T102205Z
LAST-MODIFIED:20220926T102205Z
UID:8258-1659774600-1659893400@familyservicecentregoa.org
SUMMARY:Marriage Formation Programme
DESCRIPTION:
URL:https://familyservicecentregoa.org/event/marriage-formation-programme-5/
LOCATION:Amor Holiday Home\, St. Inez Panjim
END:VEVENT
BEGIN:VEVENT
DTSTART;TZID=UTC:20220801T083000
DTEND;TZID=UTC:20220804T173000
DTSTAMP:20260422T222148
CREATED:20220926T102050Z
LAST-MODIFIED:20220926T102050Z
UID:8256-1659342600-1659634200@familyservicecentregoa.org
SUMMARY:Family Life Education
DESCRIPTION:
URL:https://familyservicecentregoa.org/event/family-life-education-17/
LOCATION:Perpetual Succor High School\, Navelim\, Perpetual Succor High School\, Navelim
END:VEVENT
BEGIN:VEVENT
DTSTART;TZID=UTC:20220731T083000
DTEND;TZID=UTC:20220731T173000
DTSTAMP:20260422T222148
CREATED:20220926T101819Z
LAST-MODIFIED:20220926T101819Z
UID:8254-1659256200-1659288600@familyservicecentregoa.org
SUMMARY:Session For Married Couples
DESCRIPTION:
URL:https://familyservicecentregoa.org/event/session-for-married-couples/
LOCATION:Our Lady of the Rosary Church\, Caranzalem\, Our Lady of the Rosary Church\, Caranzalem
END:VEVENT
BEGIN:VEVENT
DTSTART;TZID=UTC:20220731T083000
DTEND;TZID=UTC:20220731T173000
DTSTAMP:20260422T222148
CREATED:20220926T101643Z
LAST-MODIFIED:20220926T101643Z
UID:8252-1659256200-1659288600@familyservicecentregoa.org
SUMMARY:Celebrated Holy Eucharist at the Annual Gathering Of All Goa Missionary Families For Christ (English Group)
DESCRIPTION:
URL:https://familyservicecentregoa.org/event/celebrated-holy-eucharist-at-the-annual-gathering-of-all-goa-missionary-families-for-christ-english-group/
LOCATION:Agnel Ashram\, Verna\, Agnel Ashram\, Verna
END:VEVENT
BEGIN:VEVENT
DTSTART;TZID=UTC:20220731T083000
DTEND;TZID=UTC:20220731T173000
DTSTAMP:20260422T222148
CREATED:20220926T101521Z
LAST-MODIFIED:20220926T101521Z
UID:8250-1659256200-1659288600@familyservicecentregoa.org
SUMMARY:Session For Parents Of Catechism Children
DESCRIPTION:
URL:https://familyservicecentregoa.org/event/session-for-parents-of-catechism-children/
LOCATION:Our Lady of Pilar Church\, Seraulim\, Our Lady of Pilar Church\, Seraulim
END:VEVENT
BEGIN:VEVENT
DTSTART;TZID=UTC:20220730T083000
DTEND;TZID=UTC:20220730T173000
DTSTAMP:20260422T222148
CREATED:20220926T101400Z
LAST-MODIFIED:20220926T101400Z
UID:8248-1659169800-1659202200@familyservicecentregoa.org
SUMMARY:PTA Session
DESCRIPTION:
URL:https://familyservicecentregoa.org/event/pta-session-4/
LOCATION:St. Joseph School\, Aquem\, St. Joseph School\, Aquem
END:VEVENT
BEGIN:VEVENT
DTSTART;TZID=UTC:20220729T083000
DTEND;TZID=UTC:20220729T173000
DTSTAMP:20260422T222148
CREATED:20220926T101239Z
LAST-MODIFIED:20220927T043127Z
UID:8246-1659083400-1659115800@familyservicecentregoa.org
SUMMARY:PTA Session
DESCRIPTION:
URL:https://familyservicecentregoa.org/event/pta-session-3/
LOCATION:Our Lady of Assumpta High School\, Sarzora\, Our Lady of Assumpta High School\, Sarzora
END:VEVENT
BEGIN:VEVENT
DTSTART;TZID=UTC:20220729T083000
DTEND;TZID=UTC:20220729T173000
DTSTAMP:20260422T222148
CREATED:20220926T101144Z
LAST-MODIFIED:20220926T101144Z
UID:8244-1659083400-1659115800@familyservicecentregoa.org
SUMMARY:Family Life Education
DESCRIPTION:
URL:https://familyservicecentregoa.org/event/family-life-education-16/
LOCATION:St. Anne’s High school\, Tormas\, St. Anne’s High school\, Tormas
END:VEVENT
BEGIN:VEVENT
DTSTART;TZID=UTC:20220727T083000
DTEND;TZID=UTC:20220727T173000
DTSTAMP:20260422T222148
CREATED:20220926T101028Z
LAST-MODIFIED:20220926T101028Z
UID:8242-1658910600-1658943000@familyservicecentregoa.org
SUMMARY:Marriage Preparation Talk For ‘Couples And In-Laws’
DESCRIPTION:
URL:https://familyservicecentregoa.org/event/marriage-preparation-talk-for-couples-and-in-laws/
LOCATION:St. Alex Church\, Calangute\, St. Alex Church\, Calangute
END:VEVENT
BEGIN:VEVENT
DTSTART;TZID=UTC:20220726T083000
DTEND;TZID=UTC:20220729T173000
DTSTAMP:20260422T222148
CREATED:20220926T100822Z
LAST-MODIFIED:20220926T100822Z
UID:8240-1658824200-1659115800@familyservicecentregoa.org
SUMMARY:Course
DESCRIPTION:
URL:https://familyservicecentregoa.org/event/course/
LOCATION:Pastoral Institute\, Old Goa\, Pastoral Institute\, Old Goa
END:VEVENT
BEGIN:VEVENT
DTSTART;TZID=UTC:20220725T083000
DTEND;TZID=UTC:20220728T173000
DTSTAMP:20260422T222148
CREATED:20220926T100709Z
LAST-MODIFIED:20220926T100709Z
UID:8238-1658737800-1659029400@familyservicecentregoa.org
SUMMARY:Family Life Education
DESCRIPTION:
URL:https://familyservicecentregoa.org/event/family-life-education-15/
LOCATION:The Rosary High school\, Cujira Bambolim\, The Rosary High school\, Cujira Bambolim
END:VEVENT
BEGIN:VEVENT
DTSTART;TZID=UTC:20220724T083000
DTEND;TZID=UTC:20220724T173000
DTSTAMP:20260422T222148
CREATED:20220926T100558Z
LAST-MODIFIED:20220926T100558Z
UID:8236-1658651400-1658683800@familyservicecentregoa.org
SUMMARY:World Grandparents and Elderly Day Celebration
DESCRIPTION:
URL:https://familyservicecentregoa.org/event/world-grandparents-and-elderly-day-celebration/
LOCATION:Immaculate Conception Church\, Paroda\, Immaculate Conception Church\, Paroda
END:VEVENT
BEGIN:VEVENT
DTSTART;TZID=UTC:20220723T083000
DTEND;TZID=UTC:20220723T173000
DTSTAMP:20260422T222148
CREATED:20220926T100414Z
LAST-MODIFIED:20220926T100449Z
UID:8234-1658565000-1658597400@familyservicecentregoa.org
SUMMARY:PTA Session
DESCRIPTION:
URL:https://familyservicecentregoa.org/event/pta-session-2/
LOCATION:Guardian Angel High School\, Sanvordem\, Guardian Angel High School\, Sanvordem
END:VEVENT
BEGIN:VEVENT
DTSTART;TZID=UTC:20220721T083000
DTEND;TZID=UTC:20220722T173000
DTSTAMP:20260422T222148
CREATED:20220926T100209Z
LAST-MODIFIED:20220926T100209Z
UID:8232-1658392200-1658511000@familyservicecentregoa.org
SUMMARY:Family Life Education
DESCRIPTION:
URL:https://familyservicecentregoa.org/event/family-life-education-14/
LOCATION:Mary Immaculate High school\, Panjim\, Mary Immaculate High school\, Panjim
END:VEVENT
BEGIN:VEVENT
DTSTART;TZID=UTC:20220718T083000
DTEND;TZID=UTC:20220720T173000
DTSTAMP:20260422T222148
CREATED:20220926T100103Z
LAST-MODIFIED:20220926T100103Z
UID:8230-1658133000-1658338200@familyservicecentregoa.org
SUMMARY:Family Life Education
DESCRIPTION:
URL:https://familyservicecentregoa.org/event/family-life-education-13/
LOCATION:Our Lady of Rosary High School\, Fatorda\, Our Lady of Rosary High School\, Fatorda
END:VEVENT
BEGIN:VEVENT
DTSTART;TZID=UTC:20220718T083000
DTEND;TZID=UTC:20220718T173000
DTSTAMP:20260422T222148
CREATED:20220926T095940Z
LAST-MODIFIED:20220926T095940Z
UID:8228-1658133000-1658165400@familyservicecentregoa.org
SUMMARY:PTA Session
DESCRIPTION:
URL:https://familyservicecentregoa.org/event/pta-session/
LOCATION:Mount Mary’s High School\, Chinchinim\, Mount Mary’s High School\, Chinchinim
END:VEVENT
BEGIN:VEVENT
DTSTART;TZID=UTC:20220717T083000
DTEND;TZID=UTC:20220717T173000
DTSTAMP:20260422T222148
CREATED:20220926T095820Z
LAST-MODIFIED:20220927T061851Z
UID:8226-1658046600-1658079000@familyservicecentregoa.org
SUMMARY:Session for married couples (1 – 10 years)
DESCRIPTION:
URL:https://familyservicecentregoa.org/event/session-for-married-couples-1-10-years/
LOCATION:Our Lady of Gloria Church\, Varca
END:VEVENT
BEGIN:VEVENT
DTSTART;TZID=UTC:20220717T083000
DTEND;TZID=UTC:20220717T173000
DTSTAMP:20260422T222148
CREATED:20220926T095734Z
LAST-MODIFIED:20220927T042425Z
UID:8224-1658046600-1658079000@familyservicecentregoa.org
SUMMARY:Day Dedicated for Natural Family Planning
DESCRIPTION:
URL:https://familyservicecentregoa.org/event/day-dedicated-for-natural-family-planning/
END:VEVENT
BEGIN:VEVENT
DTSTART;TZID=UTC:20220716T083000
DTEND;TZID=UTC:20220717T173000
DTSTAMP:20260422T222148
CREATED:20220926T095700Z
LAST-MODIFIED:20220926T095700Z
UID:8222-1657960200-1658079000@familyservicecentregoa.org
SUMMARY:Marriage Formation Programme
DESCRIPTION:
URL:https://familyservicecentregoa.org/event/marriage-formation-programme-4/
LOCATION:St. John Paul II Complex\, Margao
END:VEVENT
BEGIN:VEVENT
DTSTART;TZID=UTC:20220715T083000
DTEND;TZID=UTC:20220715T173000
DTSTAMP:20260422T222148
CREATED:20220926T095543Z
LAST-MODIFIED:20220926T095543Z
UID:8220-1657873800-1657906200@familyservicecentregoa.org
SUMMARY:Family Life Education
DESCRIPTION:
URL:https://familyservicecentregoa.org/event/family-life-education-12/
LOCATION:St. Andrew’s (ICSE) Vasco\, St. Andrew’s (ICSE) Vasco
END:VEVENT
BEGIN:VEVENT
DTSTART;TZID=UTC:20220714T083000
DTEND;TZID=UTC:20220714T173000
DTSTAMP:20260422T222148
CREATED:20220926T095331Z
LAST-MODIFIED:20220926T095331Z
UID:8218-1657787400-1657819800@familyservicecentregoa.org
SUMMARY:Family Life Education
DESCRIPTION:
URL:https://familyservicecentregoa.org/event/family-life-education-11/
LOCATION:Mãe dos Pobres High School\, Nuvem\, Mãe dos Pobres High School\, Nuvem
END:VEVENT
BEGIN:VEVENT
DTSTART;TZID=UTC:20220712T083000
DTEND;TZID=UTC:20220713T173000
DTSTAMP:20260422T222148
CREATED:20220926T095030Z
LAST-MODIFIED:20220926T095030Z
UID:8216-1657614600-1657733400@familyservicecentregoa.org
SUMMARY:Family Life Education
DESCRIPTION:
URL:https://familyservicecentregoa.org/event/family-life-education-10/
LOCATION:Mount Carmel High School\, Curtorim\, Mount Carmel High School\, Curtorim
END:VEVENT
BEGIN:VEVENT
DTSTART;TZID=UTC:20220711T083000
DTEND;TZID=UTC:20220711T173000
DTSTAMP:20260422T222148
CREATED:20220926T094923Z
LAST-MODIFIED:20220926T094923Z
UID:8214-1657528200-1657560600@familyservicecentregoa.org
SUMMARY:Family Life Education
DESCRIPTION:
URL:https://familyservicecentregoa.org/event/family-life-education-9/
LOCATION:Don Bosco High School\, Panjim\, Don Bosco High School\, Panjim
END:VEVENT
BEGIN:VEVENT
DTSTART;TZID=UTC:20220711T083000
DTEND;TZID=UTC:20220711T173000
DTSTAMP:20260422T222148
CREATED:20220926T094749Z
LAST-MODIFIED:20220926T094749Z
UID:8212-1657528200-1657560600@familyservicecentregoa.org
SUMMARY:World Population Day – to highlight the importance of the problems of the decreasing population in Goa\, India and the World at large specially the impact on the economy of the State
DESCRIPTION:
URL:https://familyservicecentregoa.org/event/world-population-day-to-highlight-the-importance-of-the-problems-of-the-decreasing-population-in-goa-india-and-the-world-at-large-specially-the-impact-on-the-economy-of-the-state/
END:VEVENT
BEGIN:VEVENT
DTSTART;TZID=UTC:20220709T083000
DTEND;TZID=UTC:20220709T173000
DTSTAMP:20260422T222148
CREATED:20220926T094701Z
LAST-MODIFIED:20220926T094701Z
UID:8210-1657355400-1657387800@familyservicecentregoa.org
SUMMARY:PTA on Health\, Nutrition and hygiene for our young generation – 300 participants
DESCRIPTION:
URL:https://familyservicecentregoa.org/event/pta-on-health-nutrition-and-hygiene-for-our-young-generation-300-participants/
LOCATION:St. Theresa’s Higher Secondary School\, Candolim
END:VEVENT
END:VCALENDAR