BEGIN:VCALENDAR
VERSION:2.0
PRODID:-//Diocesan Family Service Centre - ECPv6.5.0.1//NONSGML v1.0//EN
CALSCALE:GREGORIAN
METHOD:PUBLISH
X-WR-CALNAME:Diocesan Family Service Centre
X-ORIGINAL-URL:https://familyservicecentregoa.org
X-WR-CALDESC:Events for Diocesan Family Service Centre
REFRESH-INTERVAL;VALUE=DURATION:PT1H
X-Robots-Tag:noindex
X-PUBLISHED-TTL:PT1H
BEGIN:VTIMEZONE
TZID:UTC
BEGIN:STANDARD
TZOFFSETFROM:+0000
TZOFFSETTO:+0000
TZNAME:UTC
DTSTART:20220101T000000
END:STANDARD
END:VTIMEZONE
BEGIN:VEVENT
DTSTART;TZID=UTC:20230812T083000
DTEND;TZID=UTC:20230813T173000
DTSTAMP:20260422T215647
CREATED:20230308T050703Z
LAST-MODIFIED:20230308T050703Z
UID:8655-1691829000-1691947800@familyservicecentregoa.org
SUMMARY:Marriage Formation Programme
DESCRIPTION:
URL:https://familyservicecentregoa.org/event/marriage-formation-programme-44/
LOCATION:St. John Paul II Complex\, Margao
END:VEVENT
BEGIN:VEVENT
DTSTART;TZID=UTC:20230805T083000
DTEND;TZID=UTC:20230806T173000
DTSTAMP:20260422T215647
CREATED:20230308T044511Z
LAST-MODIFIED:20230308T044511Z
UID:8651-1691224200-1691343000@familyservicecentregoa.org
SUMMARY:Marriage Formation Programme (English)
DESCRIPTION:
URL:https://familyservicecentregoa.org/event/marriage-formation-programme-english/
LOCATION:Amor Holiday Home\, St. Inez Panjim
END:VEVENT
BEGIN:VEVENT
DTSTART;TZID=UTC:20230722T083000
DTEND;TZID=UTC:20230723T173000
DTSTAMP:20260422T215647
CREATED:20230306T122014Z
LAST-MODIFIED:20230306T122014Z
UID:8641-1690014600-1690133400@familyservicecentregoa.org
SUMMARY:Marriage Formation Programme
DESCRIPTION:
URL:https://familyservicecentregoa.org/event/marriage-formation-programme-42/
LOCATION:St. John Paul II Complex\, Margao
END:VEVENT
BEGIN:VEVENT
DTSTART;TZID=UTC:20230708T083000
DTEND;TZID=UTC:20230709T173000
DTSTAMP:20260422T215647
CREATED:20230306T121832Z
LAST-MODIFIED:20230306T121832Z
UID:8637-1688805000-1688923800@familyservicecentregoa.org
SUMMARY:Marriage Formation Programme
DESCRIPTION:
URL:https://familyservicecentregoa.org/event/marriage-formation-programme-15/
LOCATION:Amor Holiday Home\, St. Inez Panjim
END:VEVENT
BEGIN:VEVENT
DTSTART;TZID=UTC:20230617T083000
DTEND;TZID=UTC:20230618T173000
DTSTAMP:20260422T215647
CREATED:20230308T042952Z
LAST-MODIFIED:20230308T042952Z
UID:8649-1686990600-1687109400@familyservicecentregoa.org
SUMMARY:Marriage Formation Programme
DESCRIPTION:
URL:https://familyservicecentregoa.org/event/marriage-formation-programme-43/
LOCATION:St. John Paul II Complex\, Margao
END:VEVENT
BEGIN:VEVENT
DTSTART;TZID=UTC:20230603T083000
DTEND;TZID=UTC:20230604T173000
DTSTAMP:20260422T215647
CREATED:20230306T111350Z
LAST-MODIFIED:20230306T111350Z
UID:8615-1685781000-1685899800@familyservicecentregoa.org
SUMMARY:Marriage Formation Programme
DESCRIPTION:
URL:https://familyservicecentregoa.org/event/marriage-formation-programme-12/
LOCATION:Amor Holiday Home\, St. Inez Panjim
END:VEVENT
BEGIN:VEVENT
DTSTART;TZID=UTC:20230513T083000
DTEND;TZID=UTC:20230514T173000
DTSTAMP:20260422T215647
CREATED:20220927T060912Z
LAST-MODIFIED:20220927T060912Z
UID:8356-1683966600-1684085400@familyservicecentregoa.org
SUMMARY:Marriage Formation Programme
DESCRIPTION:
URL:https://familyservicecentregoa.org/event/marriage-formation-programme-40/
LOCATION:St. John Paul II Complex\, Margao
END:VEVENT
BEGIN:VEVENT
DTSTART;TZID=UTC:20230506T083000
DTEND;TZID=UTC:20230507T173000
DTSTAMP:20260422T215647
CREATED:20220927T060834Z
LAST-MODIFIED:20220927T060834Z
UID:8354-1683361800-1683480600@familyservicecentregoa.org
SUMMARY:Marriage Formation Programme
DESCRIPTION:
URL:https://familyservicecentregoa.org/event/marriage-formation-programme-39/
LOCATION:Amor Holiday Home\, St. Inez Panjim
END:VEVENT
BEGIN:VEVENT
DTSTART;TZID=UTC:20230422T083000
DTEND;TZID=UTC:20230423T173000
DTSTAMP:20260422T215647
CREATED:20220927T060722Z
LAST-MODIFIED:20220927T060722Z
UID:8352-1682152200-1682271000@familyservicecentregoa.org
SUMMARY:Marriage Formation Programme
DESCRIPTION:
URL:https://familyservicecentregoa.org/event/marriage-formation-programme-38/
LOCATION:St. John Paul II Complex\, Margao
END:VEVENT
BEGIN:VEVENT
DTSTART;TZID=UTC:20230415T083000
DTEND;TZID=UTC:20230416T173000
DTSTAMP:20260422T215647
CREATED:20220927T060556Z
LAST-MODIFIED:20220927T060556Z
UID:8350-1681547400-1681666200@familyservicecentregoa.org
SUMMARY:Marriage Formation Programme
DESCRIPTION:
URL:https://familyservicecentregoa.org/event/marriage-formation-programme-37/
LOCATION:St. John Paul II Complex\, Margao
END:VEVENT
BEGIN:VEVENT
DTSTART;TZID=UTC:20230401T083000
DTEND;TZID=UTC:20230402T173000
DTSTAMP:20260422T215647
CREATED:20220927T060503Z
LAST-MODIFIED:20220927T060503Z
UID:8348-1680337800-1680456600@familyservicecentregoa.org
SUMMARY:Marriage Formation Programme
DESCRIPTION:
URL:https://familyservicecentregoa.org/event/marriage-formation-programme-36/
LOCATION:Amor Holiday Home\, St. Inez Panjim
END:VEVENT
BEGIN:VEVENT
DTSTART;TZID=UTC:20230325T083000
DTEND;TZID=UTC:20230326T173000
DTSTAMP:20260422T215647
CREATED:20220927T060348Z
LAST-MODIFIED:20220927T060348Z
UID:8346-1679733000-1679851800@familyservicecentregoa.org
SUMMARY:Marriage Formation Programme
DESCRIPTION:
URL:https://familyservicecentregoa.org/event/marriage-formation-programme-35/
LOCATION:St. John Paul II Complex\, Margao
END:VEVENT
BEGIN:VEVENT
DTSTART;TZID=UTC:20230325T083000
DTEND;TZID=UTC:20230325T173000
DTSTAMP:20260422T215647
CREATED:20220927T060217Z
LAST-MODIFIED:20220927T060217Z
UID:8344-1679733000-1679765400@familyservicecentregoa.org
SUMMARY:Day of the Unborn
DESCRIPTION:
URL:https://familyservicecentregoa.org/event/day-of-the-unborn/
END:VEVENT
BEGIN:VEVENT
DTSTART;TZID=UTC:20230318T083000
DTEND;TZID=UTC:20230319T173000
DTSTAMP:20260422T215647
CREATED:20220927T060132Z
LAST-MODIFIED:20220927T060132Z
UID:8342-1679128200-1679247000@familyservicecentregoa.org
SUMMARY:Marriage Formation Programme
DESCRIPTION:
URL:https://familyservicecentregoa.org/event/marriage-formation-programme-34/
LOCATION:St. John Paul II Complex\, Margao
END:VEVENT
BEGIN:VEVENT
DTSTART;TZID=UTC:20230311T083000
DTEND;TZID=UTC:20230312T173000
DTSTAMP:20260422T215647
CREATED:20220927T060056Z
LAST-MODIFIED:20220927T060056Z
UID:8340-1678523400-1678642200@familyservicecentregoa.org
SUMMARY:Marriage Formation Programme
DESCRIPTION:
URL:https://familyservicecentregoa.org/event/marriage-formation-programme-33/
LOCATION:St. John Paul II Complex\, Margao
END:VEVENT
BEGIN:VEVENT
DTSTART;TZID=UTC:20230304T083000
DTEND;TZID=UTC:20230305T173000
DTSTAMP:20260422T215647
CREATED:20220927T060017Z
LAST-MODIFIED:20220927T060017Z
UID:8338-1677918600-1678037400@familyservicecentregoa.org
SUMMARY:Marriage Formation Programme
DESCRIPTION:
URL:https://familyservicecentregoa.org/event/marriage-formation-programme-32/
LOCATION:Amor Holiday Home\, St. Inez Panjim
END:VEVENT
BEGIN:VEVENT
DTSTART;TZID=UTC:20230225T083000
DTEND;TZID=UTC:20230226T173000
DTSTAMP:20260422T215647
CREATED:20220927T055749Z
LAST-MODIFIED:20220927T055749Z
UID:8336-1677313800-1677432600@familyservicecentregoa.org
SUMMARY:Marriage Formation Programme
DESCRIPTION:
URL:https://familyservicecentregoa.org/event/marriage-formation-programme-31/
LOCATION:St. John Paul II Complex\, Margao
END:VEVENT
BEGIN:VEVENT
DTSTART;TZID=UTC:20230214T083000
DTEND;TZID=UTC:20230214T173000
DTSTAMP:20260422T215647
CREATED:20220927T055701Z
LAST-MODIFIED:20230227T095605Z
UID:8334-1676363400-1676395800@familyservicecentregoa.org
SUMMARY:World Marriage Day
DESCRIPTION:
URL:https://familyservicecentregoa.org/event/world-marriage-day/
END:VEVENT
BEGIN:VEVENT
DTSTART;TZID=UTC:20230211T083000
DTEND;TZID=UTC:20230212T173000
DTSTAMP:20260422T215647
CREATED:20220927T053933Z
LAST-MODIFIED:20220927T053933Z
UID:8332-1676104200-1676223000@familyservicecentregoa.org
SUMMARY:Marriage Formation Programme
DESCRIPTION:
URL:https://familyservicecentregoa.org/event/marriage-formation-programme-30/
LOCATION:St. John Paul II Complex\, Margao
END:VEVENT
BEGIN:VEVENT
DTSTART;TZID=UTC:20230204T083000
DTEND;TZID=UTC:20230205T173000
DTSTAMP:20260422T215647
CREATED:20220927T053838Z
LAST-MODIFIED:20220927T053838Z
UID:8330-1675499400-1675618200@familyservicecentregoa.org
SUMMARY:Marriage Formation Programme
DESCRIPTION:
URL:https://familyservicecentregoa.org/event/marriage-formation-programme-29/
LOCATION:Amor Holiday Home\, St. Inez Panjim
END:VEVENT
BEGIN:VEVENT
DTSTART;TZID=UTC:20230128T083000
DTEND;TZID=UTC:20230129T173000
DTSTAMP:20260422T215647
CREATED:20220927T053745Z
LAST-MODIFIED:20220927T053745Z
UID:8328-1674894600-1675013400@familyservicecentregoa.org
SUMMARY:Marriage Formation Programme
DESCRIPTION:
URL:https://familyservicecentregoa.org/event/marriage-formation-programme-28/
LOCATION:St. John Paul II Complex\, Margao
END:VEVENT
BEGIN:VEVENT
DTSTART;TZID=UTC:20230121T083000
DTEND;TZID=UTC:20230122T173000
DTSTAMP:20260422T215647
CREATED:20220927T053652Z
LAST-MODIFIED:20220927T053652Z
UID:8326-1674289800-1674408600@familyservicecentregoa.org
SUMMARY:Marriage Formation Programme
DESCRIPTION:
URL:https://familyservicecentregoa.org/event/marriage-formation-programme-27/
LOCATION:St. John Paul II Complex\, Margao
END:VEVENT
BEGIN:VEVENT
DTSTART;TZID=UTC:20230114T083000
DTEND;TZID=UTC:20230115T173000
DTSTAMP:20260422T215647
CREATED:20220927T053554Z
LAST-MODIFIED:20220927T053554Z
UID:8324-1673685000-1673803800@familyservicecentregoa.org
SUMMARY:Marriage Formation Programme
DESCRIPTION:
URL:https://familyservicecentregoa.org/event/marriage-formation-programme-26/
LOCATION:St. John Paul II Complex\, Margao
END:VEVENT
BEGIN:VEVENT
DTSTART;TZID=UTC:20230107T083000
DTEND;TZID=UTC:20230108T173000
DTSTAMP:20260422T215647
CREATED:20220927T053241Z
LAST-MODIFIED:20220927T053241Z
UID:8322-1673080200-1673199000@familyservicecentregoa.org
SUMMARY:Marriage Formation Programme
DESCRIPTION:
URL:https://familyservicecentregoa.org/event/marriage-formation-programme-25/
LOCATION:Amor Holiday Home\, St. Inez Panjim
END:VEVENT
BEGIN:VEVENT
DTSTART;TZID=UTC:20221228T080000
DTEND;TZID=UTC:20221229T170000
DTSTAMP:20260422T215647
CREATED:20220927T053126Z
LAST-MODIFIED:20220927T053126Z
UID:8320-1672214400-1672333200@familyservicecentregoa.org
SUMMARY:Marriage Formation Programme
DESCRIPTION:
URL:https://familyservicecentregoa.org/event/marriage-formation-programme-24/
LOCATION:St. John Paul II Complex\, Margao
END:VEVENT
BEGIN:VEVENT
DTSTART;TZID=UTC:20221217T083000
DTEND;TZID=UTC:20221218T173000
DTSTAMP:20260422T215647
CREATED:20220927T053029Z
LAST-MODIFIED:20220927T053029Z
UID:8318-1671265800-1671384600@familyservicecentregoa.org
SUMMARY:Marriage Formation Programme
DESCRIPTION:
URL:https://familyservicecentregoa.org/event/marriage-formation-programme-23/
END:VEVENT
BEGIN:VEVENT
DTSTART;TZID=UTC:20221210T083000
DTEND;TZID=UTC:20221211T173000
DTSTAMP:20260422T215647
CREATED:20220927T052839Z
LAST-MODIFIED:20220927T052839Z
UID:8316-1670661000-1670779800@familyservicecentregoa.org
SUMMARY:Marriage Formation Programme
DESCRIPTION:
URL:https://familyservicecentregoa.org/event/marriage-formation-programme-22/
LOCATION:St. John Paul II Complex\, Margao
END:VEVENT
BEGIN:VEVENT
DTSTART;TZID=UTC:20221206T083000
DTEND;TZID=UTC:20221207T173000
DTSTAMP:20260422T215647
CREATED:20220927T052717Z
LAST-MODIFIED:20220927T052717Z
UID:8314-1670315400-1670434200@familyservicecentregoa.org
SUMMARY:Marriage Formation Programme
DESCRIPTION:
URL:https://familyservicecentregoa.org/event/marriage-formation-programme-21/
LOCATION:Amor Holiday Home\, St. Inez Panjim
END:VEVENT
BEGIN:VEVENT
DTSTART;TZID=UTC:20221127T083000
DTEND;TZID=UTC:20221127T173000
DTSTAMP:20260422T215647
CREATED:20220927T052549Z
LAST-MODIFIED:20220927T052549Z
UID:8312-1669537800-1669570200@familyservicecentregoa.org
SUMMARY:Prolife Month Begins (1st Sunday of advent to Holy Mary\, Mother of God\, Solemnity)
DESCRIPTION:
URL:https://familyservicecentregoa.org/event/prolife-month-begins-1st-sunday-of-advent-to-holy-mary-mother-of-god-solemnity/
END:VEVENT
BEGIN:VEVENT
DTSTART;TZID=UTC:20221126T083000
DTEND;TZID=UTC:20221127T173000
DTSTAMP:20260422T215647
CREATED:20220927T052439Z
LAST-MODIFIED:20220927T052439Z
UID:8310-1669451400-1669570200@familyservicecentregoa.org
SUMMARY:Marriage Formation Programme
DESCRIPTION:
URL:https://familyservicecentregoa.org/event/marriage-formation-programme-20/
LOCATION:St. John Paul II Complex\, Margao
END:VEVENT
END:VCALENDAR