BEGIN:VCALENDAR
VERSION:2.0
PRODID:-//Diocesan Family Service Centre - ECPv6.5.0.1//NONSGML v1.0//EN
CALSCALE:GREGORIAN
METHOD:PUBLISH
X-WR-CALNAME:Diocesan Family Service Centre
X-ORIGINAL-URL:https://familyservicecentregoa.org
X-WR-CALDESC:Events for Diocesan Family Service Centre
REFRESH-INTERVAL;VALUE=DURATION:PT1H
X-Robots-Tag:noindex
X-PUBLISHED-TTL:PT1H
BEGIN:VTIMEZONE
TZID:UTC
BEGIN:STANDARD
TZOFFSETFROM:+0000
TZOFFSETTO:+0000
TZNAME:UTC
DTSTART:20230101T000000
END:STANDARD
END:VTIMEZONE
BEGIN:VEVENT
DTSTART;TZID=UTC:20240406T083000
DTEND;TZID=UTC:20240407T173000
DTSTAMP:20260422T013909
CREATED:20230310T044605Z
LAST-MODIFIED:20230310T044605Z
UID:8802-1712392200-1712511000@familyservicecentregoa.org
SUMMARY:Marriage Formation Programme (English)
DESCRIPTION:
URL:https://familyservicecentregoa.org/event/marriage-formation-programme-english-5/
LOCATION:Amor Holiday Home\, St. Inez Panjim
END:VEVENT
BEGIN:VEVENT
DTSTART;TZID=UTC:20240323T083000
DTEND;TZID=UTC:20240324T173000
DTSTAMP:20260422T013909
CREATED:20230310T044437Z
LAST-MODIFIED:20230310T044437Z
UID:8800-1711182600-1711301400@familyservicecentregoa.org
SUMMARY:Marriage Formation Programme
DESCRIPTION:
URL:https://familyservicecentregoa.org/event/marriage-formation-programme-65/
LOCATION:St. John Paul II Complex\, Margao
END:VEVENT
BEGIN:VEVENT
DTSTART;TZID=UTC:20240309T083000
DTEND;TZID=UTC:20240310T173000
DTSTAMP:20260422T013909
CREATED:20230310T044208Z
LAST-MODIFIED:20230310T044208Z
UID:8796-1709973000-1710091800@familyservicecentregoa.org
SUMMARY:Marriage Formation Programme
DESCRIPTION:
URL:https://familyservicecentregoa.org/event/marriage-formation-programme-63/
LOCATION:St. John Paul II Complex\, Margao
END:VEVENT
BEGIN:VEVENT
DTSTART;TZID=UTC:20240302T083000
DTEND;TZID=UTC:20240303T173000
DTSTAMP:20260422T013909
CREATED:20230310T042602Z
LAST-MODIFIED:20230310T042602Z
UID:8794-1709368200-1709487000@familyservicecentregoa.org
SUMMARY:Marriage Formation Programme
DESCRIPTION:
URL:https://familyservicecentregoa.org/event/marriage-formation-programme-62/
LOCATION:Amor Holiday Home\, St. Inez Panjim
END:VEVENT
BEGIN:VEVENT
DTSTART;TZID=UTC:20240217T083000
DTEND;TZID=UTC:20240218T173000
DTSTAMP:20260422T013909
CREATED:20230310T041840Z
LAST-MODIFIED:20230310T041840Z
UID:8792-1708158600-1708277400@familyservicecentregoa.org
SUMMARY:Marriage Formation Programme (English)
DESCRIPTION:
URL:https://familyservicecentregoa.org/event/marriage-formation-programme-english-4/
LOCATION:St. John Paul II Complex\, Margao
END:VEVENT
BEGIN:VEVENT
DTSTART;TZID=UTC:20240203T083000
DTEND;TZID=UTC:20240204T173000
DTSTAMP:20260422T013909
CREATED:20230310T041522Z
LAST-MODIFIED:20230310T041522Z
UID:8790-1706949000-1707067800@familyservicecentregoa.org
SUMMARY:Marriage Formation Programme
DESCRIPTION:
URL:https://familyservicecentregoa.org/event/marriage-formation-programme-61/
LOCATION:Amor Holiday Home\, St. Inez Panjim
END:VEVENT
BEGIN:VEVENT
DTSTART;TZID=UTC:20240120T083000
DTEND;TZID=UTC:20240121T173000
DTSTAMP:20260422T013909
CREATED:20230310T041407Z
LAST-MODIFIED:20230310T041407Z
UID:8788-1705739400-1705858200@familyservicecentregoa.org
SUMMARY:Marriage Formation Programme
DESCRIPTION:
URL:https://familyservicecentregoa.org/event/marriage-formation-programme-60/
LOCATION:St. John Paul II Complex\, Margao
END:VEVENT
BEGIN:VEVENT
DTSTART;TZID=UTC:20240113T083000
DTEND;TZID=UTC:20240114T173000
DTSTAMP:20260422T013909
CREATED:20230310T041250Z
LAST-MODIFIED:20230310T041250Z
UID:8786-1705134600-1705253400@familyservicecentregoa.org
SUMMARY:Marriage Formation Programme
DESCRIPTION:
URL:https://familyservicecentregoa.org/event/marriage-formation-programme-59/
LOCATION:St. John Paul II Complex\, Margao
END:VEVENT
BEGIN:VEVENT
DTSTART;TZID=UTC:20240106T083000
DTEND;TZID=UTC:20240107T173000
DTSTAMP:20260422T013909
CREATED:20230310T041154Z
LAST-MODIFIED:20230310T041154Z
UID:8784-1704529800-1704648600@familyservicecentregoa.org
SUMMARY:Marriage Formation Programme
DESCRIPTION:
URL:https://familyservicecentregoa.org/event/marriage-formation-programme-58/
LOCATION:Amor Holiday Home\, St. Inez Panjim
END:VEVENT
BEGIN:VEVENT
DTSTART;TZID=UTC:20231228T083000
DTEND;TZID=UTC:20231229T173000
DTSTAMP:20260422T013909
CREATED:20230308T065656Z
LAST-MODIFIED:20230308T065656Z
UID:8689-1703752200-1703871000@familyservicecentregoa.org
SUMMARY:Marriage Formation Programme
DESCRIPTION:
URL:https://familyservicecentregoa.org/event/marriage-formation-programme-57/
LOCATION:St. John Paul II Complex\, Margao
END:VEVENT
BEGIN:VEVENT
DTSTART;TZID=UTC:20231216T083000
DTEND;TZID=UTC:20231217T173000
DTSTAMP:20260422T013909
CREATED:20230308T065521Z
LAST-MODIFIED:20230308T065521Z
UID:8687-1702715400-1702834200@familyservicecentregoa.org
SUMMARY:Marriage Formation Programme (English)
DESCRIPTION:
URL:https://familyservicecentregoa.org/event/marriage-formation-programme-english-3/
LOCATION:Amor Holiday Home\, St. Inez Panjim
END:VEVENT
BEGIN:VEVENT
DTSTART;TZID=UTC:20231209T083000
DTEND;TZID=UTC:20231210T173000
DTSTAMP:20260422T013909
CREATED:20230308T065409Z
LAST-MODIFIED:20230308T065409Z
UID:8685-1702110600-1702229400@familyservicecentregoa.org
SUMMARY:Marriage Formation Programme
DESCRIPTION:
URL:https://familyservicecentregoa.org/event/marriage-formation-programme-56/
LOCATION:St. John Paul II Complex\, Margao
END:VEVENT
BEGIN:VEVENT
DTSTART;TZID=UTC:20231202T083000
DTEND;TZID=UTC:20231203T173000
DTSTAMP:20260422T013909
CREATED:20230308T065314Z
LAST-MODIFIED:20230308T065314Z
UID:8683-1701505800-1701624600@familyservicecentregoa.org
SUMMARY:Marriage Formation Programme
DESCRIPTION:
URL:https://familyservicecentregoa.org/event/marriage-formation-programme-55/
LOCATION:Amor Holiday Home\, St. Inez Panjim
END:VEVENT
BEGIN:VEVENT
DTSTART;TZID=UTC:20231125T083000
DTEND;TZID=UTC:20231126T173000
DTSTAMP:20260422T013909
CREATED:20230308T065201Z
LAST-MODIFIED:20230308T065201Z
UID:8681-1700901000-1701019800@familyservicecentregoa.org
SUMMARY:Marriage Formation Programme
DESCRIPTION:
URL:https://familyservicecentregoa.org/event/marriage-formation-programme-54/
LOCATION:St. John Paul II Complex\, Margao
END:VEVENT
BEGIN:VEVENT
DTSTART;TZID=UTC:20231118T083000
DTEND;TZID=UTC:20231119T173000
DTSTAMP:20260422T013909
CREATED:20230308T065109Z
LAST-MODIFIED:20231006T061552Z
UID:8679-1700296200-1700415000@familyservicecentregoa.org
SUMMARY:Marriage Formation Programme
DESCRIPTION:
URL:https://familyservicecentregoa.org/event/marriage-formation-programme-53/
LOCATION:St. John Paul II Complex\, Margao
END:VEVENT
BEGIN:VEVENT
DTSTART;TZID=UTC:20231111T083000
DTEND;TZID=UTC:20231112T173000
DTSTAMP:20260422T013909
CREATED:20230308T065019Z
LAST-MODIFIED:20230308T065019Z
UID:8677-1699691400-1699810200@familyservicecentregoa.org
SUMMARY:Marriage Formation Programme
DESCRIPTION:
URL:https://familyservicecentregoa.org/event/marriage-formation-programme-52/
LOCATION:St. John Paul II Complex\, Margao
END:VEVENT
BEGIN:VEVENT
DTSTART;TZID=UTC:20231104T083000
DTEND;TZID=UTC:20231105T173000
DTSTAMP:20260422T013909
CREATED:20230308T064919Z
LAST-MODIFIED:20230308T064919Z
UID:8675-1699086600-1699205400@familyservicecentregoa.org
SUMMARY:Marriage Formation Programme
DESCRIPTION:
URL:https://familyservicecentregoa.org/event/marriage-formation-programme-51/
LOCATION:Amor Holiday Home\, St. Inez Panjim
END:VEVENT
BEGIN:VEVENT
DTSTART;TZID=UTC:20231028T083000
DTEND;TZID=UTC:20231029T173000
DTSTAMP:20260422T013909
CREATED:20230308T064551Z
LAST-MODIFIED:20230308T064551Z
UID:8672-1698481800-1698600600@familyservicecentregoa.org
SUMMARY:Marriage Formation Programme
DESCRIPTION:
URL:https://familyservicecentregoa.org/event/marriage-formation-programme-50/
LOCATION:St. John Paul II Complex\, Margao
END:VEVENT
BEGIN:VEVENT
DTSTART;TZID=UTC:20231021T083000
DTEND;TZID=UTC:20231022T173000
DTSTAMP:20260422T013909
CREATED:20230308T064403Z
LAST-MODIFIED:20231006T061717Z
UID:8670-1697877000-1697995800@familyservicecentregoa.org
SUMMARY:Marriage Formation Programme
DESCRIPTION:
URL:https://familyservicecentregoa.org/event/marriage-formation-programme-49/
LOCATION:St. John Paul II Complex\, Margao
END:VEVENT
BEGIN:VEVENT
DTSTART;TZID=UTC:20231014T083000
DTEND;TZID=UTC:20231015T173000
DTSTAMP:20260422T013909
CREATED:20230308T064232Z
LAST-MODIFIED:20230308T064232Z
UID:8668-1697272200-1697391000@familyservicecentregoa.org
SUMMARY:Marriage Formation Programme (English)
DESCRIPTION:
URL:https://familyservicecentregoa.org/event/marriage-formation-programme-english-2/
LOCATION:St. John Paul II Complex\, Margao
END:VEVENT
BEGIN:VEVENT
DTSTART;TZID=UTC:20231007T083000
DTEND;TZID=UTC:20231008T173000
DTSTAMP:20260422T013909
CREATED:20230308T064018Z
LAST-MODIFIED:20230308T064018Z
UID:8666-1696667400-1696786200@familyservicecentregoa.org
SUMMARY:Marriage Formation Programme
DESCRIPTION:
URL:https://familyservicecentregoa.org/event/marriage-formation-programme-48/
LOCATION:Amor Holiday Home\, St. Inez Panjim
END:VEVENT
BEGIN:VEVENT
DTSTART;TZID=UTC:20230916T083000
DTEND;TZID=UTC:20230917T173000
DTSTAMP:20260422T013909
CREATED:20230308T051251Z
LAST-MODIFIED:20230308T051251Z
UID:8662-1694853000-1694971800@familyservicecentregoa.org
SUMMARY:Marriage Formation Programme
DESCRIPTION:
URL:https://familyservicecentregoa.org/event/marriage-formation-programme-47/
LOCATION:St. John Paul II Complex\, Margao
END:VEVENT
BEGIN:VEVENT
DTSTART;TZID=UTC:20230909T083000
DTEND;TZID=UTC:20230910T173000
DTSTAMP:20260422T013909
CREATED:20230308T051107Z
LAST-MODIFIED:20230308T051107Z
UID:8659-1694248200-1694367000@familyservicecentregoa.org
SUMMARY:Marriage Formation Programme
DESCRIPTION:
URL:https://familyservicecentregoa.org/event/marriage-formation-programme-46/
LOCATION:St. John Paul II Complex\, Margao
END:VEVENT
BEGIN:VEVENT
DTSTART;TZID=UTC:20230902T083000
DTEND;TZID=UTC:20230903T173000
DTSTAMP:20260422T013909
CREATED:20230308T050924Z
LAST-MODIFIED:20230308T050924Z
UID:8657-1693643400-1693762200@familyservicecentregoa.org
SUMMARY:Marriage Formation Programme
DESCRIPTION:
URL:https://familyservicecentregoa.org/event/marriage-formation-programme-45/
LOCATION:Amor Holiday Home\, St. Inez Panjim
END:VEVENT
BEGIN:VEVENT
DTSTART;TZID=UTC:20230819T083000
DTEND;TZID=UTC:20230820T173000
DTSTAMP:20260422T013909
CREATED:20230308T050311Z
LAST-MODIFIED:20230308T050414Z
UID:8653-1692433800-1692552600@familyservicecentregoa.org
SUMMARY:Marriage Formation Programme
DESCRIPTION:
URL:https://familyservicecentregoa.org/event/marriage-formation-programme-41/
LOCATION:St. John Paul II Complex\, Margao
END:VEVENT
BEGIN:VEVENT
DTSTART;TZID=UTC:20230812T083000
DTEND;TZID=UTC:20230813T173000
DTSTAMP:20260422T013909
CREATED:20230308T050703Z
LAST-MODIFIED:20230308T050703Z
UID:8655-1691829000-1691947800@familyservicecentregoa.org
SUMMARY:Marriage Formation Programme
DESCRIPTION:
URL:https://familyservicecentregoa.org/event/marriage-formation-programme-44/
LOCATION:St. John Paul II Complex\, Margao
END:VEVENT
BEGIN:VEVENT
DTSTART;TZID=UTC:20230805T083000
DTEND;TZID=UTC:20230806T173000
DTSTAMP:20260422T013909
CREATED:20230308T044511Z
LAST-MODIFIED:20230308T044511Z
UID:8651-1691224200-1691343000@familyservicecentregoa.org
SUMMARY:Marriage Formation Programme (English)
DESCRIPTION:
URL:https://familyservicecentregoa.org/event/marriage-formation-programme-english/
LOCATION:Amor Holiday Home\, St. Inez Panjim
END:VEVENT
BEGIN:VEVENT
DTSTART;TZID=UTC:20230722T083000
DTEND;TZID=UTC:20230723T173000
DTSTAMP:20260422T013909
CREATED:20230306T122014Z
LAST-MODIFIED:20230306T122014Z
UID:8641-1690014600-1690133400@familyservicecentregoa.org
SUMMARY:Marriage Formation Programme
DESCRIPTION:
URL:https://familyservicecentregoa.org/event/marriage-formation-programme-42/
LOCATION:St. John Paul II Complex\, Margao
END:VEVENT
BEGIN:VEVENT
DTSTART;TZID=UTC:20230708T083000
DTEND;TZID=UTC:20230709T173000
DTSTAMP:20260422T013909
CREATED:20230306T121832Z
LAST-MODIFIED:20230306T121832Z
UID:8637-1688805000-1688923800@familyservicecentregoa.org
SUMMARY:Marriage Formation Programme
DESCRIPTION:
URL:https://familyservicecentregoa.org/event/marriage-formation-programme-15/
LOCATION:Amor Holiday Home\, St. Inez Panjim
END:VEVENT
BEGIN:VEVENT
DTSTART;TZID=UTC:20230617T083000
DTEND;TZID=UTC:20230618T173000
DTSTAMP:20260422T013909
CREATED:20230308T042952Z
LAST-MODIFIED:20230308T042952Z
UID:8649-1686990600-1687109400@familyservicecentregoa.org
SUMMARY:Marriage Formation Programme
DESCRIPTION:
URL:https://familyservicecentregoa.org/event/marriage-formation-programme-43/
LOCATION:St. John Paul II Complex\, Margao
END:VEVENT
END:VCALENDAR