BEGIN:VCALENDAR
VERSION:2.0
PRODID:-//Diocesan Family Service Centre - ECPv6.5.0.1//NONSGML v1.0//EN
CALSCALE:GREGORIAN
METHOD:PUBLISH
X-ORIGINAL-URL:https://familyservicecentregoa.org
X-WR-CALDESC:Events for Diocesan Family Service Centre
REFRESH-INTERVAL;VALUE=DURATION:PT1H
X-Robots-Tag:noindex
X-PUBLISHED-TTL:PT1H
BEGIN:VTIMEZONE
TZID:UTC
BEGIN:STANDARD
TZOFFSETFROM:+0000
TZOFFSETTO:+0000
TZNAME:UTC
DTSTART:20250101T000000
END:STANDARD
END:VTIMEZONE
BEGIN:VEVENT
DTSTART;TZID=UTC:20250503T083000
DTEND;TZID=UTC:20250504T173000
DTSTAMP:20260422T223059
CREATED:20250307T055229Z
LAST-MODIFIED:20250307T055229Z
UID:9242-1746261000-1746379800@familyservicecentregoa.org
SUMMARY:Marriage Formation Programme
DESCRIPTION:
URL:https://familyservicecentregoa.org/event/marriage-formation-programme-74/
LOCATION:St. John Paul II Complex\, Margao
END:VEVENT
BEGIN:VEVENT
DTSTART;TZID=UTC:20250607T083000
DTEND;TZID=UTC:20250608T173000
DTSTAMP:20260422T223059
CREATED:20250307T055305Z
LAST-MODIFIED:20250307T055305Z
UID:9243-1749285000-1749403800@familyservicecentregoa.org
SUMMARY:Marriage Formation Programme
DESCRIPTION:
URL:https://familyservicecentregoa.org/event/marriage-formation-programme-75/
LOCATION:Pastoral Institute\, Old Goa\, Pastoral Institute\, Old Goa
END:VEVENT
BEGIN:VEVENT
DTSTART;TZID=UTC:20250705T083000
DTEND;TZID=UTC:20250706T173000
DTSTAMP:20260422T223059
CREATED:20250307T055335Z
LAST-MODIFIED:20250307T055335Z
UID:9244-1751704200-1751823000@familyservicecentregoa.org
SUMMARY:Marriage Formation Programme
DESCRIPTION:
URL:https://familyservicecentregoa.org/event/marriage-formation-programme-76/
LOCATION:Pastoral Institute\, Old Goa\, Pastoral Institute\, Old Goa
END:VEVENT
END:VCALENDAR